BEGIN:VCALENDAR
VERSION:2.0
PRODID:-//TechServ Corporation - ECPv6.15.20//NONSGML v1.0//EN
CALSCALE:GREGORIAN
METHOD:PUBLISH
X-WR-CALNAME:TechServ Corporation
X-ORIGINAL-URL:https://techserv.io
X-WR-CALDESC:Events for TechServ Corporation
REFRESH-INTERVAL;VALUE=DURATION:PT1H
X-Robots-Tag:noindex
X-PUBLISHED-TTL:PT1H
BEGIN:VTIMEZONE
TZID:America/Indiana/Indianapolis
BEGIN:DAYLIGHT
TZOFFSETFROM:-0500
TZOFFSETTO:-0400
TZNAME:EDT
DTSTART:20210314T070000
END:DAYLIGHT
BEGIN:STANDARD
TZOFFSETFROM:-0400
TZOFFSETTO:-0500
TZNAME:EST
DTSTART:20211107T060000
END:STANDARD
BEGIN:DAYLIGHT
TZOFFSETFROM:-0500
TZOFFSETTO:-0400
TZNAME:EDT
DTSTART:20220313T070000
END:DAYLIGHT
BEGIN:STANDARD
TZOFFSETFROM:-0400
TZOFFSETTO:-0500
TZNAME:EST
DTSTART:20221106T060000
END:STANDARD
BEGIN:DAYLIGHT
TZOFFSETFROM:-0500
TZOFFSETTO:-0400
TZNAME:EDT
DTSTART:20230312T070000
END:DAYLIGHT
BEGIN:STANDARD
TZOFFSETFROM:-0400
TZOFFSETTO:-0500
TZNAME:EST
DTSTART:20231105T060000
END:STANDARD
BEGIN:DAYLIGHT
TZOFFSETFROM:-0500
TZOFFSETTO:-0400
TZNAME:EDT
DTSTART:20240310T070000
END:DAYLIGHT
BEGIN:STANDARD
TZOFFSETFROM:-0400
TZOFFSETTO:-0500
TZNAME:EST
DTSTART:20241103T060000
END:STANDARD
BEGIN:DAYLIGHT
TZOFFSETFROM:-0500
TZOFFSETTO:-0400
TZNAME:EDT
DTSTART:20250309T070000
END:DAYLIGHT
BEGIN:STANDARD
TZOFFSETFROM:-0400
TZOFFSETTO:-0500
TZNAME:EST
DTSTART:20251102T060000
END:STANDARD
END:VTIMEZONE
BEGIN:VTIMEZONE
TZID:UTC
BEGIN:STANDARD
TZOFFSETFROM:+0000
TZOFFSETTO:+0000
TZNAME:UTC
DTSTART:20220101T000000
END:STANDARD
END:VTIMEZONE
BEGIN:VTIMEZONE
TZID:America/Halifax
BEGIN:DAYLIGHT
TZOFFSETFROM:-0400
TZOFFSETTO:-0300
TZNAME:ADT
DTSTART:20230312T060000
END:DAYLIGHT
BEGIN:STANDARD
TZOFFSETFROM:-0300
TZOFFSETTO:-0400
TZNAME:AST
DTSTART:20231105T050000
END:STANDARD
BEGIN:DAYLIGHT
TZOFFSETFROM:-0400
TZOFFSETTO:-0300
TZNAME:ADT
DTSTART:20240310T060000
END:DAYLIGHT
BEGIN:STANDARD
TZOFFSETFROM:-0300
TZOFFSETTO:-0400
TZNAME:AST
DTSTART:20241103T050000
END:STANDARD
BEGIN:DAYLIGHT
TZOFFSETFROM:-0400
TZOFFSETTO:-0300
TZNAME:ADT
DTSTART:20250309T060000
END:DAYLIGHT
BEGIN:STANDARD
TZOFFSETFROM:-0300
TZOFFSETTO:-0400
TZNAME:AST
DTSTART:20251102T050000
END:STANDARD
END:VTIMEZONE
BEGIN:VTIMEZONE
TZID:America/Chicago
BEGIN:DAYLIGHT
TZOFFSETFROM:-0600
TZOFFSETTO:-0500
TZNAME:CDT
DTSTART:20210314T080000
END:DAYLIGHT
BEGIN:STANDARD
TZOFFSETFROM:-0500
TZOFFSETTO:-0600
TZNAME:CST
DTSTART:20211107T070000
END:STANDARD
BEGIN:DAYLIGHT
TZOFFSETFROM:-0600
TZOFFSETTO:-0500
TZNAME:CDT
DTSTART:20220313T080000
END:DAYLIGHT
BEGIN:STANDARD
TZOFFSETFROM:-0500
TZOFFSETTO:-0600
TZNAME:CST
DTSTART:20221106T070000
END:STANDARD
BEGIN:DAYLIGHT
TZOFFSETFROM:-0600
TZOFFSETTO:-0500
TZNAME:CDT
DTSTART:20230312T080000
END:DAYLIGHT
BEGIN:STANDARD
TZOFFSETFROM:-0500
TZOFFSETTO:-0600
TZNAME:CST
DTSTART:20231105T070000
END:STANDARD
END:VTIMEZONE
BEGIN:VEVENT
DTSTART;TZID=America/Indiana/Indianapolis:20241102T090000
DTEND;TZID=America/Indiana/Indianapolis:20241102T150000
DTSTAMP:20260420T071659
CREATED:20241022T232954Z
LAST-MODIFIED:20241022T232954Z
UID:3960-1730538000-1730559600@techserv.io
SUMMARY:Community Health Network Hosts 3rd Annual BMWC Youth Summit
DESCRIPTION:Join us for an exciting day of mentorship\, medical exposure\, and networking\, as we strengthen the future of healthcare. Students (BOYS & GIRLS 3rd grade and up)\, parents\, educators\, healthcare professionals\, and community leaders are all welcome. \nIn response to an alarming report that highlighted the decreasing number of black men applying to medical school\, we began Black Men In White Coats in 2013. We have worked closely with medical schools\, high schools\, and physicians to provide inspiration and mentorship to our youth who may be interested in healthcare as a profession. \nFor more information\, please contact:NJohnson2@ecommunity.com
URL:https://techserv.io/event/community-health-network-hosts-3rd-annual-bmwc-youth-summit/
LOCATION:Lawrence North High School\, 7802 Hague Road\, Indianapolis\, IN\, 46256\, United States
END:VEVENT
BEGIN:VEVENT
DTSTART;TZID=America/Indiana/Indianapolis:20241030T110000
DTEND;TZID=America/Indiana/Indianapolis:20241030T190000
DTSTAMP:20260420T071659
CREATED:20241022T235912Z
LAST-MODIFIED:20241022T235912Z
UID:3963-1730286000-1730314800@techserv.io
SUMMARY:Pink-4-Ever Day
DESCRIPTION:Supporting the fighters\, recognizing the survivors\, celebrating hope. \nFood & drinks\, raffles & prizes\, vendors\, music\, crafts\, chili cook-off\, wellness room\, line-dancing\, and MORE! \nFor more info\, please contact the organization at https://www.pink-4-ever.org/contact-p4e/
URL:https://techserv.io/event/pink-4-ever-day/
LOCATION:PINK-4-EVER\, 3901 W. 86th St\, Indianapolis\, IN\, 46268\, United States
ORGANIZER;CN="PINK-4-EVER":MAILTO:info@pink-4-ever.org
END:VEVENT
BEGIN:VEVENT
DTSTART;TZID=UTC:20241011T090000
DTEND;TZID=UTC:20241011T160000
DTSTAMP:20260420T071659
CREATED:20241001T220123Z
LAST-MODIFIED:20241001T220123Z
UID:3939-1728637200-1728662400@techserv.io
SUMMARY:2024 NAMI Indiana State Conference
DESCRIPTION:Each year\, hundreds of Hoosiers gather for the annual NAMI Indiana State Conference seeking new and better ways to manage and live with serious mental illnesses and how they can help others.\n\nNAMI Indiana works to bring together the latest in research\, training\, recovery models\, mental health experts\, and information on the new policies that will affect the lives of children and adults living with serious mental illnesses.\n\nResource Fair\nThe NAMI Indiana State Conference Resource Fair features dozens of exhibitors providing resources from around the state and region. Exhibitors include housing support services\, supportive employment\, in-patient and out-patient services\, medicaid and medicare entities\, community support and more. \nIf you are interested in being an exhibitor\, please contact NAMI Indiana.
URL:https://techserv.io/event/2024-nami-indiana-state-conference/
LOCATION:Indianapolis Marriott North\, 3645 River Crossing Pkwy\, Indianapolis\, IN\, 46240\, United States
END:VEVENT
BEGIN:VEVENT
DTSTART;TZID=UTC:20241009T100000
DTEND;TZID=UTC:20241009T180000
DTSTAMP:20260420T071659
CREATED:20241001T215617Z
LAST-MODIFIED:20241001T215617Z
UID:3934-1728468000-1728496800@techserv.io
SUMMARY:One-Day Lead-Safe Training EPA Lead Renovation\, Repair and Painting (RRP) Training
DESCRIPTION:Free one-day Lead-Safe Training for anyone who provides renovation or maintenance for homes\, schools\, or day-cares built before 1978. Participants can take the class and exam\, and receive certification in one day! \n\n\n\n\n\n\n  \nThis 8-hour class offers training on lead-based paint renovation and will include a presentation of modules\, hands on-exercises\, and an exam for certification. \nANYONE who provides renovation or maintenance work for homes\, schools\, or daycare centers built before 1978 MUST COMPLETE THIS TRAINING. The Environmental Protection Agency (EPA) needs your help in preventing lead poisoning in children. \n\nFor more details and to register\, visit: https://attend.indypl.org/event/11167694#branch
URL:https://techserv.io/event/one-day-lead-safe-training-epa-lead-renovation-repair-and-painting-rrp-training/
LOCATION:Spades Park Branch\, 1801 Nowland Ave\, Indianapolis\, 46201\, United States
END:VEVENT
BEGIN:VEVENT
DTSTART;TZID=America/Halifax:20240822T130000
DTEND;TZID=America/Halifax:20240822T190000
DTSTAMP:20260420T071659
CREATED:20240729T213657Z
LAST-MODIFIED:20240729T213658Z
UID:3611-1724331600-1724353200@techserv.io
SUMMARY:NACHW Unity Virtual Conference
DESCRIPTION:It’s the annual meeting and interactive event of the National Association of Community Health Workers (NACHW)\, designed for our CHW and ally members making a difference. 2024’s theme is “Our voices heard\, our leadership respected.” \nRegister Here
URL:https://techserv.io/event/nachw-unity-virtual-conference/
LOCATION:Virtual Event
END:VEVENT
BEGIN:VEVENT
DTSTART;TZID=UTC:20231024T080000
DTEND;TZID=UTC:20231025T170000
DTSTAMP:20260420T071659
CREATED:20230627T090535Z
LAST-MODIFIED:20230627T090535Z
UID:3487-1698134400-1698253200@techserv.io
SUMMARY:DMHA MVOV Prevention Conference
DESCRIPTION:
URL:https://techserv.io/event/dmha-mvov-prevention-conference/
LOCATION:Dallara IndyCar Factory\, 1201 N Main St.\, Speedway\, IN\, 46224\, United States
END:VEVENT
BEGIN:VEVENT
DTSTART;TZID=UTC:20230919T090000
DTEND;TZID=UTC:20230920T163000
DTSTAMP:20260420T071659
CREATED:20230627T075851Z
LAST-MODIFIED:20230627T075851Z
UID:3479-1695114000-1695227400@techserv.io
SUMMARY:Minority Health Partners Conference
DESCRIPTION:
URL:https://techserv.io/event/minority-health-partners-conference/
LOCATION:Martin University\, 2186 N Sherman Dr.\, Indianapolis\, IN\, 46218\, United States
END:VEVENT
BEGIN:VEVENT
DTSTART;TZID=UTC:20230627T080000
DTEND;TZID=UTC:20230628T170000
DTSTAMP:20260420T071659
CREATED:20230627T081717Z
LAST-MODIFIED:20230627T081717Z
UID:3482-1687852800-1687971600@techserv.io
SUMMARY:Indiana Mental Health and Addiction Conference
DESCRIPTION:
URL:https://techserv.io/event/indiana-mental-health-and-addiction-conference/
LOCATION:Indiana Convention Center\, 100 S. Capital Ave.\, Indianapolis\, IN\, 46204\, United States
END:VEVENT
BEGIN:VEVENT
DTSTART;TZID=America/Indiana/Indianapolis:20221208T180000
DTEND;TZID=America/Indiana/Indianapolis:20221208T203000
DTSTAMP:20260420T071659
CREATED:20221118T014321Z
LAST-MODIFIED:20221118T014321Z
UID:3373-1670522400-1670531400@techserv.io
SUMMARY:Indy Far East Magazine Launch Party
DESCRIPTION:It’s time to celebrate at the official Indy Far East Magazine Launch Party! And you’re invited! \n\nEnjoy Good Food and Networking\nFind out about the Magazine’s Mission\nHear from Community and City Leaders\nWitness Special Presentations\nTour Indy’s Newest Co-Working Space
URL:https://techserv.io/event/indy-far-east-magazine-launch-party/
LOCATION:P30 INDY\, 3039 North Post Road\, Indianapolis\, IN\, 46226\, United States
END:VEVENT
BEGIN:VEVENT
DTSTART;TZID=America/Chicago:20221207T123000
DTEND;TZID=America/Chicago:20221207T153000
DTSTAMP:20260420T071659
CREATED:20221118T020830Z
LAST-MODIFIED:20221118T020830Z
UID:3380-1670416200-1670427000@techserv.io
SUMMARY:FEED Gary Plan: Education Transformation Systems: Construction & Entrepreneurship
DESCRIPTION:The FEED Gary Plan\, Faith Empowering Economic Development\, is an economic development plan for Gary residents led by local Pastors focused on six areas of development – the six pillars: 1. Farm-to-Table 2. Business Growth 3. Holistic Healing 4. Public Safety 5. Environmental Justice 6. Renewable Energy \nIn our second Stakeholder Summit\, the FaithWorks Network team will be focusing on the Business Growth Pillar with tying Education Transformation Systems pathway with Construction Management & Redevelopment opportunities. Come learn about FaithWorks Network’s FEED Gary Plan\, upcoming projects and share your current initiatives to maximize momentum and impact!
URL:https://techserv.io/event/feed-gary-plan-education-transformation-systems-construction-entrepreneurship/
LOCATION:Faith Community Center\, 1351 W 11th Ave\,\, Gary\, IN\, 46402\, United States
END:VEVENT
BEGIN:VEVENT
DTSTART;TZID=America/Indiana/Indianapolis:20220804T140000
DTEND;TZID=America/Indiana/Indianapolis:20220804T150000
DTSTAMP:20260420T071659
CREATED:20220329T164528Z
LAST-MODIFIED:20220329T164528Z
UID:3227-1659621600-1659625200@techserv.io
SUMMARY:Women and Minority Owned Businesses and Entrepreneurs
DESCRIPTION:Find out how the Census Bureau measures key information about businesses and industries in this overview of our social and economic programs\, like the Economic Census\, County Business Patterns\, and the American Community Survey.  You will learn how to access statistics on the socioeconomic\, housing\, and demographic characteristics of customers in your market and business data in a given industry and much more using the Census Business Builder.
URL:https://techserv.io/event/women-and-minority-owned-businesses-and-entrepreneurs/
LOCATION:Virtual Event
END:VEVENT
BEGIN:VEVENT
DTSTART;TZID=America/Indiana/Indianapolis:20220728T140000
DTEND;TZID=America/Indiana/Indianapolis:20220728T150000
DTSTAMP:20260420T071659
CREATED:20220328T214421Z
LAST-MODIFIED:20220328T214421Z
UID:3223-1659016800-1659020400@techserv.io
SUMMARY:OnTheMap for Emergency Management for Response and Recovery During a Natural Disaster
DESCRIPTION:OnTheMap for Emergency Management is a public data tool that provides an intuitive web-based interface for accessing U.S. population and workforce statistics\, in real-time\, for areas being affected by natural disasters. The tool allows users to retrieve reports containing detailed workforce\, population\, and housing characteristics for hurricanes\, floods\, wildfires\, winter storms\, and federal disaster declaration areas.
URL:https://techserv.io/event/onthemap-for-emergency-management-for-response-and-recovery-during-a-natural-disaster/
LOCATION:Virtual Event
END:VEVENT
BEGIN:VEVENT
DTSTART;TZID=America/Indiana/Indianapolis:20220717T120000
DTEND;TZID=America/Indiana/Indianapolis:20220717T180000
DTSTAMP:20260420T071659
CREATED:20220630T173437Z
LAST-MODIFIED:20220630T173437Z
UID:3303-1658059200-1658080800@techserv.io
SUMMARY:2022 Indiana Black & Minority Health Fair
DESCRIPTION:For 36 years\, the Indiana Black and Minority Health Fair have provided more than $2\,500 in free health care\, resources\, and education to communities and populations that are at higher risk for poor health and barriers to care.   The health fair is important this year more than ever because we know that many people have fallen behind on routine checkups and immunizations or have delayed seeking treatment during the COVID-19 pandemic.
URL:https://techserv.io/event/2022-indiana-black-minority-health-fair-4/
LOCATION:Indiana Convention Center\, 100 S. Capital Ave.\, Indianapolis\, IN\, 46204\, United States
END:VEVENT
BEGIN:VEVENT
DTSTART;TZID=America/Indiana/Indianapolis:20220716T100000
DTEND;TZID=America/Indiana/Indianapolis:20220716T190000
DTSTAMP:20260420T071659
CREATED:20220630T172448Z
LAST-MODIFIED:20220630T172448Z
UID:3301-1657965600-1657998000@techserv.io
SUMMARY:2022 Indiana Black & Minority Health Fair
DESCRIPTION:For 36 years\, the Indiana Black and Minority Health Fair have provided more than $2\,500 in free health care\, resources\, and education to communities and populations that are at higher risk for poor health and barriers to care.   The health fair is important this year more than ever because we know that many people have
URL:https://techserv.io/event/2022-indiana-black-minority-health-fair-3/
LOCATION:Indiana Convention Center\, 100 S. Capital Ave.\, Indianapolis\, IN\, 46204\, United States
END:VEVENT
BEGIN:VEVENT
DTSTART;TZID=America/Indiana/Indianapolis:20220715T130000
DTEND;TZID=America/Indiana/Indianapolis:20220715T190000
DTSTAMP:20260420T071659
CREATED:20220628T183826Z
LAST-MODIFIED:20220628T183826Z
UID:3299-1657890000-1657911600@techserv.io
SUMMARY:2022 Indiana Black & Minority Health Fair
DESCRIPTION:For 36 years\, the Indiana Black and Minority Health Fair have provided more than $2\,500 in free health care\, resources\, and education to communities and populations that are at higher risk for poor health and barriers to care.   The health fair is important this year more than ever because we know that many people have fallen behind on routine checkups and immunizations or have delayed seeking treatment during the COVID-19 pandemic.
URL:https://techserv.io/event/2022-indiana-black-minority-health-fair-2/
LOCATION:Indiana Convention Center\, 100 S. Capital Ave.\, Indianapolis\, IN\, 46204\, United States
END:VEVENT
BEGIN:VEVENT
DTSTART;TZID=America/Indiana/Indianapolis:20220714T160000
DTEND;TZID=America/Indiana/Indianapolis:20220714T200000
DTSTAMP:20260420T071659
CREATED:20220628T182810Z
LAST-MODIFIED:20220628T182810Z
UID:3290-1657814400-1657828800@techserv.io
SUMMARY:2022 Indiana Black & Minority Health Fair
DESCRIPTION:For 36 years\, the Indiana Black and Minority Health Fair have provided more than $2\,500 in free health care\, resources\, and education to communities and populations that are at higher risk for poor health and barriers to care.   The health fair is important this year more than ever because we know that many people have fallen behind on routine checkups and immunizations or have delayed seeking treatment during the COVID-19 pandemic.
URL:https://techserv.io/event/2022-indiana-black-minority-health-fair/
LOCATION:Indiana Convention Center\, 100 S. Capital Ave.\, Indianapolis\, IN\, 46204\, United States
END:VEVENT
BEGIN:VEVENT
DTSTART;TZID=America/Indiana/Indianapolis:20220712T140000
DTEND;TZID=America/Indiana/Indianapolis:20220712T150000
DTSTAMP:20260420T071659
CREATED:20220328T193850Z
LAST-MODIFIED:20220328T193850Z
UID:3217-1657634400-1657638000@techserv.io
SUMMARY:Your Community by the Numbers: Data for Community Development
DESCRIPTION:Learn how to use data.census.gov to access the most current and relevant demographic\, socioeconomic\, and housing statistics about your community. During this training\, you will learn about the American Community Survey (ACS) and other Census Bureau programs\, geographies\, and datasets available. This training is recommended for all data users.
URL:https://techserv.io/event/your-community-by-the-numbers-data-for-community-development/
LOCATION:Virtual Event
END:VEVENT
BEGIN:VEVENT
DTSTART;TZID=America/Indiana/Indianapolis:20220630T173000
DTEND;TZID=America/Indiana/Indianapolis:20220630T200000
DTSTAMP:20260420T071659
CREATED:20220623T182134Z
LAST-MODIFIED:20220623T182134Z
UID:3286-1656610200-1656619200@techserv.io
SUMMARY:Summer of Recovery 2022 Tour
DESCRIPTION:Join us in downtown Indy for the last leg of our statewide tour! There will be live music\, bounce houses\, food trucks\, powerful stories of hope\, and more as we celebrate Indiana’s recovery community and raise awareness to STOP overdose deaths in our state! Please be sure to RSVP and let us know how many are in your party. We look forward to celebrating with you at this year’s Summer of Recovery!
URL:https://techserv.io/event/summer-of-recovery-2022-tour-2/
LOCATION:2855 N Keystone Ave\, 2855 N Keystone Ave\, Indianapolis\, IN\, 46218
END:VEVENT
BEGIN:VEVENT
DTSTART;TZID=America/Chicago:20220624T160000
DTEND;TZID=America/Chicago:20220624T183000
DTSTAMP:20260420T071659
CREATED:20220623T015747Z
LAST-MODIFIED:20220623T015747Z
UID:3279-1656086400-1656095400@techserv.io
SUMMARY:Summer of Recovery 2022 Tour
DESCRIPTION:Join us in downtown Gary! There will be live music\, bounce houses\, food trucks\, powerful stories of hope\, and more as we celebrate Indiana’s recovery community and raise awareness to STOP overdose deaths in our state. Please be sure to RSVP and let us know how many are in your party. We look forward to celebrating with you at this year’s Summer of Recovery!
URL:https://techserv.io/event/summer-of-recovery-2022-tour/
LOCATION:Liberty House Recovery Cafe\, 6145 Cleveland Street\, Merrillville\, IN\, 46410\, United States
END:VEVENT
BEGIN:VEVENT
DTSTART;TZID=America/Indiana/Indianapolis:20220623T140000
DTEND;TZID=America/Indiana/Indianapolis:20220623T150000
DTSTAMP:20260420T071659
CREATED:20220225T195017Z
LAST-MODIFIED:20220225T195017Z
UID:3146-1655992800-1655996400@techserv.io
SUMMARY:How to Access Education Data
DESCRIPTION:Learn how to access education data\, using a variety of online tools. In this training\, you will also learn the source of the data\, the tables available on the subject\, and how to download and create maps.
URL:https://techserv.io/event/how-to-access-education-data/
LOCATION:Virtual Event
END:VEVENT
BEGIN:VEVENT
DTSTART;TZID=America/Indiana/Indianapolis:20220617T180000
DTEND;TZID=America/Indiana/Indianapolis:20220617T200000
DTSTAMP:20260420T071659
CREATED:20220613T184513Z
LAST-MODIFIED:20220613T184513Z
UID:3272-1655488800-1655496000@techserv.io
SUMMARY:State Strategy Session on Entrepreneurial Connectedness
DESCRIPTION:Board Member Sunny Lu Williams hosts State Strategy Session on Entrepreneurial Connectedness
URL:https://techserv.io/event/state-strategy-session-on-entrepreneurial-connectedness/
LOCATION:Late Harvest KItchen\, 8605 River Crossing Blvd\, Indianapolis\, IN\, 46240
END:VEVENT
BEGIN:VEVENT
DTSTART;TZID=America/Indiana/Indianapolis:20220609T140000
DTEND;TZID=America/Indiana/Indianapolis:20220609T150000
DTSTAMP:20260420T071659
CREATED:20220215T202900Z
LAST-MODIFIED:20220215T202900Z
UID:3132-1654783200-1654786800@techserv.io
SUMMARY:Puerto Rico – Spanish
DESCRIPTION:Did you know that the Census Bureau has data available for Puerto Rico\, its counties and towns?  In this training\, you will learn what data is available and how to access them online and download your results using our data retrieval tools.
URL:https://techserv.io/event/puerto-rico-spanish/
LOCATION:Virtual Event
END:VEVENT
BEGIN:VEVENT
DTSTART;TZID=America/Indiana/Indianapolis:20220607T140000
DTEND;TZID=America/Indiana/Indianapolis:20220607T150000
DTSTAMP:20260420T071659
CREATED:20220215T201634Z
LAST-MODIFIED:20220215T201634Z
UID:3130-1654610400-1654614000@techserv.io
SUMMARY:Puerto Rico – English
DESCRIPTION:Did you know that the Census Bureau has data available for Puerto Rico\, its counties and towns?  In this training\, you will learn what data is available and how to access them online and download your results using our data retrieval tools.
URL:https://techserv.io/event/puerto-rico-english/
LOCATION:Virtual Event
END:VEVENT
BEGIN:VEVENT
DTSTART;TZID=America/Indiana/Indianapolis:20220517T090000
DTEND;TZID=America/Indiana/Indianapolis:20220518T163000
DTSTAMP:20260420T071659
CREATED:20220208T004052Z
LAST-MODIFIED:20220502T175351Z
UID:3087-1652778000-1652891400@techserv.io
SUMMARY:Practice\, Policy & Innovation in Mental Health and Addiction Virtual Conference 2022
DESCRIPTION:Cultural Agility in Application. \nDivision of Mental Health & Addiction has funded the Cultural Competency Enhancement Project\nsince 1996 to provide training services and technical assistance for community mental health centers and addiction providers throughout Indiana with the vision and mission of: \nVision: People of all cultures\, races\, and ethnicities partnering with local and state systems to achieve equity in access\, services\, interventions and outcomes in our systems. \nMission: Facilitate cultural and linguistic competency strategies throughout Indiana’s state and local systems to improve outcomes for populations vulnerable to disparities and disproportionalities. \n 
URL:https://techserv.io/event/practice-policy-innovation-in-mental-health-and-addiction-virtual-conference-2022/
LOCATION:Virtual Event
END:VEVENT
BEGIN:VEVENT
DTSTART;TZID=America/Indiana/Indianapolis:20220512T140000
DTEND;TZID=America/Indiana/Indianapolis:20220512T150000
DTSTAMP:20260420T071659
CREATED:20220215T195513Z
LAST-MODIFIED:20220215T195513Z
UID:3128-1652364000-1652367600@techserv.io
SUMMARY:To Nest\, or Not to Nest\, That is the Quest
DESCRIPTION:Did you know that some Census Bureau geographies nest within other geographies? Understanding when these geographies (census blocks\, ​census tracts\, counties\, etc.) interconnect and when they don’t can be the key to finding Census Bureau data more easily and effectively. To find data successfully is to comprehend the underlying geographical hierarchy. ​In this session\, learn about the interconnections of Census Bureau geographies in order to better pinpoint your data selections. This session will pivot between explaining nesting concepts and geographies and demonstrating with data.census.gov ​and other tools how to find those geographies\, and their data.
URL:https://techserv.io/event/to-nest-or-not-to-nest-that-is-the-quest/
LOCATION:Virtual Event
END:VEVENT
BEGIN:VEVENT
DTSTART;TZID=America/Indiana/Indianapolis:20220428T140000
DTEND;TZID=America/Indiana/Indianapolis:20220428T150000
DTSTAMP:20260420T071659
CREATED:20220215T194141Z
LAST-MODIFIED:20220215T194141Z
UID:3126-1651154400-1651158000@techserv.io
SUMMARY:Top 3 Tools Tour
DESCRIPTION:Not sure which Census Bureau data tool to use to get to the stats you need? Join this webinar to learn how to access frequently requested statistics using three of the U.S. Census Bureau’s top data tools: QuickFacts\, data.census.gov\, and Census Business Builder. This session will feature a brief presentation to introduce the tools and an online demonstration of data access within each tool. After the session\, attendees will be able to locate the tools on www.census.gov and understand their uses\, navigate within the tools to access basic data\, and locate resources for independent learning\, research\, and data assistance.
URL:https://techserv.io/event/top-3-tools-tour/
LOCATION:Virtual Event
END:VEVENT
BEGIN:VEVENT
DTSTART;TZID=America/Indiana/Indianapolis:20220423T173000
DTEND;TZID=America/Indiana/Indianapolis:20220423T220000
DTSTAMP:20260420T071659
CREATED:20220216T193405Z
LAST-MODIFIED:20220216T193405Z
UID:3136-1650735000-1650751200@techserv.io
SUMMARY:Honoring the Best of Tech in Indiana
DESCRIPTION:TechPoint is thrilled to once again bring the Mira Awards to the Indiana tech community at the 23rd annual black-tie gala honoring the best of tech in Indiana\, and presented by Salesforce. \nEvery spring\, the tech community comes together to celebrate the state’s many successes and to find out who will win top honors in more than a dozen different technology award categories. Tech pros\, leaders of industry\, government and academia\, and friends and family all gather for “Tech’s Biggest Night.” \nApplications are reviewed and scored by panels of recognized subject matter experts. Nominees participate in live interviews with judges\, and the winners are revealed at the “Oscars-style” gala on Saturday\, April\, 23\, at the JW Marriott — Indianapolis. \nWe have been virtual for two years and we are excited to bring everyone back in person with an appropriate theme: TOGETHER.
URL:https://techserv.io/event/honoring-the-best-of-tech-in-indiana/
LOCATION:JWMarriot-Indianapolis\, 10 S. West St.\, Indianapolis\, IN\, 46204\, United States
END:VEVENT
BEGIN:VEVENT
DTSTART;TZID=America/Indiana/Indianapolis:20220421T180000
DTEND;TZID=America/Indiana/Indianapolis:20220421T190000
DTSTAMP:20260420T071659
CREATED:20220415T193250Z
LAST-MODIFIED:20220415T193250Z
UID:3247-1650564000-1650567600@techserv.io
SUMMARY:Kokomo Native Project: Heritage and Homeland
DESCRIPTION:This event is sponsored by The Kokomo Native Project\, an alliance of organizations in Howard County\, Indiana\, including the City of Kokomo\, the Kokomo Early History Learning Center\, Inc.\, the Howard County Historical Society\, and Indiana University Kokomo. The Project creates programs and activities in support of INAIAC to educate the community and to help Native people learn more about services and support available to them in northcentral Indiana.
URL:https://techserv.io/event/kokomo-native-project-heritage-and-homeland/
LOCATION:Indiana University Kokomo\, 2300 S. Washington St.\, Kokomo\, IN\, 46902\, United States
END:VEVENT
BEGIN:VEVENT
DTSTART;TZID=America/Indiana/Indianapolis:20220421T143000
DTEND;TZID=America/Indiana/Indianapolis:20220421T153000
DTSTAMP:20260420T071659
CREATED:20220415T192252Z
LAST-MODIFIED:20220415T192252Z
UID:3238-1650551400-1650555000@techserv.io
SUMMARY:The Kokomo Native Project: Heritage & Homeland
DESCRIPTION:This event is sponsored by The Kokomo Native Project\, an alliance of organizations in Howard County\, Indiana\, including the City of Kokomo\, the Kokomo Early History Learning Center\, Inc.\, the Howard County Historical Society\, and Indiana University Kokomo. The Project creates programs and activities in support of INAIAC to educate the community and to help Native people learn more about services and support available to them in northcentral Indiana.
URL:https://techserv.io/event/the-kokomo-native-project-heritage-homeland/
LOCATION:Indiana University Kokomo\, 2300 S. Washington St.\, Kokomo\, IN\, 46902\, United States
END:VEVENT
BEGIN:VEVENT
DTSTART;TZID=America/Indiana/Indianapolis:20220412T140000
DTEND;TZID=America/Indiana/Indianapolis:20220412T150000
DTSTAMP:20260420T071659
CREATED:20220215T193557Z
LAST-MODIFIED:20220215T193557Z
UID:3124-1649772000-1649775600@techserv.io
SUMMARY:Data on a Deadline for Journalists
DESCRIPTION:This training is designed to give reporters an overview of the power of Census Bureau data for storytelling. Reporters will learn how to access and use demographic\, socioeconomic\, housing\, and business data that can be used to identify trends\, as well as generate and enhance news stories. They will also learn how to navigate data.census.gov and other tools such as QuickFacts\, Facts for Features\, and Census Reporter.
URL:https://techserv.io/event/data-on-a-deadline-for-journalists/
LOCATION:Virtual Event
END:VEVENT
END:VCALENDAR