BEGIN:VCALENDAR
VERSION:2.0
PRODID:-//TechServ Corporation - ECPv6.15.20//NONSGML v1.0//EN
CALSCALE:GREGORIAN
METHOD:PUBLISH
X-WR-CALNAME:TechServ Corporation
X-ORIGINAL-URL:https://techserv.io
X-WR-CALDESC:Events for TechServ Corporation
REFRESH-INTERVAL;VALUE=DURATION:PT1H
X-Robots-Tag:noindex
X-PUBLISHED-TTL:PT1H
BEGIN:VTIMEZONE
TZID:America/Indiana/Indianapolis
BEGIN:DAYLIGHT
TZOFFSETFROM:-0500
TZOFFSETTO:-0400
TZNAME:EDT
DTSTART:20230312T070000
END:DAYLIGHT
BEGIN:STANDARD
TZOFFSETFROM:-0400
TZOFFSETTO:-0500
TZNAME:EST
DTSTART:20231105T060000
END:STANDARD
BEGIN:DAYLIGHT
TZOFFSETFROM:-0500
TZOFFSETTO:-0400
TZNAME:EDT
DTSTART:20240310T070000
END:DAYLIGHT
BEGIN:STANDARD
TZOFFSETFROM:-0400
TZOFFSETTO:-0500
TZNAME:EST
DTSTART:20241103T060000
END:STANDARD
BEGIN:DAYLIGHT
TZOFFSETFROM:-0500
TZOFFSETTO:-0400
TZNAME:EDT
DTSTART:20250309T070000
END:DAYLIGHT
BEGIN:STANDARD
TZOFFSETFROM:-0400
TZOFFSETTO:-0500
TZNAME:EST
DTSTART:20251102T060000
END:STANDARD
BEGIN:DAYLIGHT
TZOFFSETFROM:-0500
TZOFFSETTO:-0400
TZNAME:EDT
DTSTART:20260308T070000
END:DAYLIGHT
BEGIN:STANDARD
TZOFFSETFROM:-0400
TZOFFSETTO:-0500
TZNAME:EST
DTSTART:20261101T060000
END:STANDARD
END:VTIMEZONE
BEGIN:VTIMEZONE
TZID:America/Chicago
BEGIN:DAYLIGHT
TZOFFSETFROM:-0600
TZOFFSETTO:-0500
TZNAME:CDT
DTSTART:20230312T080000
END:DAYLIGHT
BEGIN:STANDARD
TZOFFSETFROM:-0500
TZOFFSETTO:-0600
TZNAME:CST
DTSTART:20231105T070000
END:STANDARD
BEGIN:DAYLIGHT
TZOFFSETFROM:-0600
TZOFFSETTO:-0500
TZNAME:CDT
DTSTART:20240310T080000
END:DAYLIGHT
BEGIN:STANDARD
TZOFFSETFROM:-0500
TZOFFSETTO:-0600
TZNAME:CST
DTSTART:20241103T070000
END:STANDARD
BEGIN:DAYLIGHT
TZOFFSETFROM:-0600
TZOFFSETTO:-0500
TZNAME:CDT
DTSTART:20250309T080000
END:DAYLIGHT
BEGIN:STANDARD
TZOFFSETFROM:-0500
TZOFFSETTO:-0600
TZNAME:CST
DTSTART:20251102T070000
END:STANDARD
BEGIN:DAYLIGHT
TZOFFSETFROM:-0600
TZOFFSETTO:-0500
TZNAME:CDT
DTSTART:20260308T080000
END:DAYLIGHT
BEGIN:STANDARD
TZOFFSETFROM:-0500
TZOFFSETTO:-0600
TZNAME:CST
DTSTART:20261101T070000
END:STANDARD
BEGIN:DAYLIGHT
TZOFFSETFROM:-0600
TZOFFSETTO:-0500
TZNAME:CDT
DTSTART:20270314T080000
END:DAYLIGHT
BEGIN:STANDARD
TZOFFSETFROM:-0500
TZOFFSETTO:-0600
TZNAME:CST
DTSTART:20271107T070000
END:STANDARD
END:VTIMEZONE
BEGIN:VEVENT
DTSTART;TZID=America/Indiana/Indianapolis:20241115T123000
DTEND;TZID=America/Indiana/Indianapolis:20241213T133000
DTSTAMP:20260420T055925
CREATED:20241023T001102Z
LAST-MODIFIED:20241203T154405Z
UID:3967-1731673800-1734096600@techserv.io
SUMMARY:WELLNESS WORKSHOP SERIES
DESCRIPTION:Friday\, November 15th: Nutrition and Intuitive Eating \nFriday\, December 13th: Preventive Health Care and Regular Screenings \n12:30 – 1:30 PM EDT \nBU Wellness Network | 1712 N. Meridian St\, Indianapolis\, IN 46202 \n**All attendees will receive a $10 Kroger Gift Card** \nRegister today by emailing: ADAVENPORT@BUWELLNESS.ORG
URL:https://techserv.io/event/wellness-workshop-series/
LOCATION:BU WELLNESS\, 1712 N. Meridian St.\, Indianapolis\, IN\, 46202\, United States
ATTACH;FMTTYPE=image/png:https://techserv.io/wp-content/uploads/2024/10/Event-Image-Wellness.png
ORGANIZER;CN="BU WELLNESS":MAILTO:info@buwellness.org
END:VEVENT
BEGIN:VEVENT
DTSTART;TZID=America/Chicago:20241204T120000
DTEND;TZID=America/Chicago:20241204T143000
DTSTAMP:20260420T055925
CREATED:20241108T012745Z
LAST-MODIFIED:20241118T210637Z
UID:4013-1733313600-1733322600@techserv.io
SUMMARY:Lake County TI-ROSC Holiday Luncheon
DESCRIPTION:Please join us for the TI-ROSC Holiday Luncheon in December!  The meeting will be held at the Innsbrook Country Club\, on Wednesday\, December 4th at 12pm Central Time. \nLuncheon tickets are required for this event\, please purchase yours at the link provided. \nIf you have any questions or need assistance\, please reach out to Sloane James\, Techserv’s Special Project Coordinator\, at sloane.james@techserv.io \nWe very much look forward to us all being together! \n 
URL:https://techserv.io/event/ti-rosc-holiday-luncheon/
LOCATION:Innsbrook Country Club\, 6701 W. Taft St\, #3732\, Merrillville\, IN\, 46410\, United States
ORGANIZER;CN="TechServ Corp":MAILTO:info@techserv.io
END:VEVENT
BEGIN:VEVENT
DTSTART;TZID=America/Indiana/Indianapolis:20241213T090000
DTEND;TZID=America/Indiana/Indianapolis:20241213T160000
DTSTAMP:20260420T055925
CREATED:20241031T183406Z
LAST-MODIFIED:20241031T183406Z
UID:4004-1734080400-1734105600@techserv.io
SUMMARY:Mental Health & Addiction Symposium
DESCRIPTION:The Future of Behavioral Health\nEach year\, hundreds of Hoosier mental health professionals\, advocates\, and leaders unite in Indianapolis for a day of networking\, education\, and innovation.\nAt this year’s conference\, we will explore TRENDS\, systemic CHALLENGES\, and OPPORTUNITIES in the current landscape\, ensuring everyone has equitable opportunity for optimal mental health and well-being in Indiana.
URL:https://techserv.io/event/mental-health-addiction-symposium/
LOCATION:Marriott East Indianapolis\, 7202 East 21st St\, Indianapolis\, IN\, 46219\, United States
ORGANIZER;CN="Mental Health of America of Indiana":MAILTO:info@mhai.net
END:VEVENT
BEGIN:VEVENT
DTSTART;VALUE=DATE:20250101
DTEND;VALUE=DATE:20250408
DTSTAMP:20260420T055925
CREATED:20250106T134727Z
LAST-MODIFIED:20250106T140044Z
UID:4265-1735689600-1744070399@techserv.io
SUMMARY:upcoming FREE certifications\, please apply
DESCRIPTION:  \nOur programs include:\n–CNA (Certified Nursing Aide)\n\n   Program starts: April 7\, 2025\n   Apply: https://www.hardoneducation.org/certificate-in-nurse-aide\n   Eligibility: 18 and older with high school diploma or GED/HSE\n   Program length: up to 10 weeks\n\n\n-MA (Medical Assistant)\n\n   Program starts: January 6\, 2025\n   Apply: https://www.hardoneducation.org/certificate-in-medical-assistant\n   Eligibility: 18 and older with high school diploma or GED/HSE\n\n\n-CHW (Community Health Worker) – will be interviewed in order to participate\n\n   Program starts: February 10\, 2025\n   Apply: https://forms.gle/JdefJA74asQXRp549\n   Eligibility: 18 and older with high school diploma or GED/HSE\n   Interviews: January 6th to January 24th\, 2025\nSelections Announced: January 29th\, 2025\nClasses Conclude: The week of March 31st\, 2025\nWeekly Meetings: Mondays\, 6:30 pm to 8:30 pm (8 consecutive weeks) \n\n–Medical Billing and Coding (NEW)\n   Program start: February 3\, 2025\n   Apply: https://forms.gle/FaiZSTCkXbvriGyp8\n   Eligibility: 18 years old and older with GED/HSE\n\n–Doula Training (NEW)\n\n    Program Starts: January 10\, 2025\n    Apply: https://tally.so/r/mRoOVj\n   Scholarship link: https://forms.gle/tXY2UebS3fYyhb8Z6
URL:https://techserv.io/event/upcoming-free-certifications-please-apply/
ATTACH;FMTTYPE=image/png:https://techserv.io/wp-content/uploads/2025/01/Trauma-Certificates-Event-Image.png
ORGANIZER;CN="http%3A//mici-ahec.uindy.edu/":MAILTO:younger@uindy.edu
END:VEVENT
BEGIN:VEVENT
DTSTART;TZID=America/Indiana/Indianapolis:20250114T103000
DTEND;TZID=America/Indiana/Indianapolis:20250114T120000
DTSTAMP:20260420T055925
CREATED:20250109T151313Z
LAST-MODIFIED:20250109T151730Z
UID:4276-1736850600-1736856000@techserv.io
SUMMARY:SAMHSA Grant Application Process Webinar
DESCRIPTION:SAMHSA is offering webinars on our grant application process to help organizations better understand the steps to apply for a SAMHSA grant. This webinar will focus on the process to apply\, from registration to completion of the application. Organizations that have not received SAMHSA funds may find this webinar helpful. The webinar will be repeated and offered a total of four times across the months of December and January. \nPlease RSVP in advance for the webinar. After registering\, you will receive a confirmation email.
URL:https://techserv.io/event/samhsa-grant-application-process-webinar/
ORGANIZER;CN="SAMHSA":MAILTO:SAMHSAInfo@samhsa.hhs.gov
END:VEVENT
BEGIN:VEVENT
DTSTART;TZID=America/Indiana/Indianapolis:20250116T133000
DTEND;TZID=America/Indiana/Indianapolis:20250116T150000
DTSTAMP:20260420T055925
CREATED:20250109T151629Z
LAST-MODIFIED:20250109T151629Z
UID:4280-1737034200-1737039600@techserv.io
SUMMARY:SAMHSA Grant Application Process Webinar
DESCRIPTION:SAMHSA is offering webinars on our grant application process to help organizations better understand the steps to apply for a SAMHSA grant. This webinar will focus on the process to apply\, from registration to completion of the application. Organizations that have not received SAMHSA funds may find this webinar helpful. The webinar will be repeated and offered a total of four times across the months of December and January. \nPlease RSVP in advance for the webinar. After registering\, you will receive a confirmation email.
URL:https://techserv.io/event/samhsa-grant-application-process-webinar-2/
ORGANIZER;CN="SAMHSA":MAILTO:SAMHSAInfo@samhsa.hhs.gov
END:VEVENT
BEGIN:VEVENT
DTSTART;TZID=America/Chicago:20250205T110000
DTEND;TZID=America/Chicago:20250205T130000
DTSTAMP:20260420T055925
CREATED:20250121T032331Z
LAST-MODIFIED:20250121T032945Z
UID:4316-1738753200-1738760400@techserv.io
SUMMARY:TI-ROSC February Luncheon
DESCRIPTION:We welcome you as we kick off our first TI-ROSC Monthly Luncheon for the year! We will be hosting the February luncheon at Little Italy\, in Dyer\, IN. \nRSVP by securing your ticket at the link provided. \nPlease note: If you are purchasing multiple tickets and/or tickets for others\, we kindly ask that you email us at sloane.james@techserv.io with the list of attendee names\, email addresses\, and phone numbers for each attendee. This will greatly help with check-in and with future meeting planning. Thank you! \n*Please also note – the time for this meeting is in Central time zone*
URL:https://techserv.io/event/ti-rosc-february-luncheon/
LOCATION:Little Italy\, 1155 Joliet St\, Dyer\, IN\, 46311\, United States
END:VEVENT
BEGIN:VEVENT
DTSTART;TZID=America/Chicago:20250305T110000
DTEND;TZID=America/Chicago:20250305T130000
DTSTAMP:20260420T055925
CREATED:20250206T211412Z
LAST-MODIFIED:20250210T173520Z
UID:4527-1741172400-1741179600@techserv.io
SUMMARY:TI-ROSC March Luncheon
DESCRIPTION:We are excited to have you join us for our next monthly meeting\, Wednesday\, March 5th from 11a-1p CDT. \nRSVP by securing your ticket at the link provided. \n*Please note – Ticket sales for this event will end Friday\, February 28th at 3pm.* \nIf you have any questions or concerns\, please reach out to Sloane at sloane.james@techserv.io \nWe very much look forward to seeing you all there! \n 
URL:https://techserv.io/event/ti-rosc-march-luncheon/
LOCATION:Faith Community Center\, 1351 W 11th Ave\,\, Gary\, IN\, 46402\, United States
END:VEVENT
BEGIN:VEVENT
DTSTART;TZID=America/Chicago:20250402T110000
DTEND;TZID=America/Chicago:20250402T130000
DTSTAMP:20260420T055925
CREATED:20250206T213526Z
LAST-MODIFIED:20250324T193251Z
UID:4547-1743591600-1743598800@techserv.io
SUMMARY:TI-ROSC April Luncheon
DESCRIPTION:We are excited to have you join us for our next monthly meeting\, Wednesday\, April 2nd from 11a-1p CDT. \nRSVP by securing your ticket at the link provided. \nIf you have any questions or concerns\, please reach out to Sloane at sloane.james@techserv.io \nWe very much look forward to seeing you all there!
URL:https://techserv.io/event/ti-rosc-april-luncheon/
LOCATION:Liberty House Recovery Cafe\, 6145 Cleveland Street\, Merrillville\, IN\, 46410\, United States
END:VEVENT
BEGIN:VEVENT
DTSTART;TZID=America/Chicago:20250507T110000
DTEND;TZID=America/Chicago:20250507T130000
DTSTAMP:20260420T055925
CREATED:20250206T213821Z
LAST-MODIFIED:20250402T175636Z
UID:4553-1746615600-1746622800@techserv.io
SUMMARY:TI-ROSC May Luncheon
DESCRIPTION:We are excited to have you join us for our next monthly meeting\, Wednesday\, May 7th from 11a-1p CDT. \nRSVP by securing your ticket at the link provided. \nIf you have any questions or concerns\, please reach out to Sloane at sloane.james@techserv.io \nWe very much look forward to seeing you all there!
URL:https://techserv.io/event/ti-rosc-may-luncheon/
LOCATION:Griffith First Christian Church\, 202 W Pine St\, Griffith\, IN\, 46319\, United States
END:VEVENT
BEGIN:VEVENT
DTSTART;TZID=America/Indiana/Indianapolis:20250513T090000
DTEND;TZID=America/Indiana/Indianapolis:20250513T120000
DTSTAMP:20260420T055925
CREATED:20250409T173611Z
LAST-MODIFIED:20250513T125527Z
UID:4814-1747126800-1747137600@techserv.io
SUMMARY:Community Convening on Community Based Doula Programs
DESCRIPTION:In Indiana\, we face alarming infant health statistics. In 2022\, Indiana had a significant infant mortality rate of 7.2 deaths per 1\,000 live births – the seventh-highest rate in the country! One of the ways we can begin to address this crisis is by empowering community-based doulas to provide prenatal\, labor\, and postnatal support to women in communities with the highest infant mortality rates – LaPorte\, St. Joseph\, Elkhart\, and Marshall with 8.0 deaths per 1\,000 live births and Howard\, Tipton\, Grant\, Madison\, Blackford\, Delaware\, Henry\, Jay\, and Randolph with 7.6 deaths per 1\,000 live births. \nTo help address these disparities\, through funding from Elevance Health and in partnership with HealthConnect One’s community-based doula training program\, Volunteers of America Ohio & Indiana invite community stakeholders to participate in a community convening on May 13\, 2025 at Shepherd Community Center. \nThis is an excellent opportunity for stakeholders from various sectors\, including community leaders\, healthcare providers\, WIC staff\, doulas\, and more to learn more about the national best practice model\, HealthConnect One for Community Based Doula Programs\, and strategic initiatives at Volunteers of America Ohio and Indiana toward bettering infant health. \nPlease Register by May 8\, 2025. We look forward to seeing you there! \nIf purchasing an Exhibitor Booth\, please add registration tickets for each representative of your booth(s). Up to 2 representatives per booth.  \nDownload the event flyer here.  \n  \nJOIN THE VIRTUAL MEETING SPACE HERE.
URL:https://techserv.io/event/community-convening-doula/
LOCATION:Shepherd Community Center\, 4109 E Washington St\, Indianapolis\, IN\, 46201\, United States
ORGANIZER;CN="TechServ Corp":MAILTO:info@techserv.io
END:VEVENT
BEGIN:VEVENT
DTSTART;TZID=America/Chicago:20250618T110000
DTEND;TZID=America/Chicago:20250618T130000
DTSTAMP:20260420T055925
CREATED:20250226T182443Z
LAST-MODIFIED:20250610T133231Z
UID:4658-1750244400-1750251600@techserv.io
SUMMARY:TI-ROSC June Luncheon
DESCRIPTION:We are excited to have you join us for our next monthly meeting\, Wednesday\, June 18th from 11a-1p CDT. \nPlease RSVP by securing your ticket at the link provided below\, by  Wednesday\, June 11th at 5pm. \nIf you have any questions or concerns\, please reach out to Sloane at sloane.james@techserv.io \nWe very much look forward to seeing you all there!
URL:https://techserv.io/event/ti-rosc-june-luncheon/
LOCATION:TBD
END:VEVENT
BEGIN:VEVENT
DTSTART;TZID=America/Chicago:20250820T110000
DTEND;TZID=America/Chicago:20250820T130000
DTSTAMP:20260420T055925
CREATED:20250616T142152Z
LAST-MODIFIED:20250807T174510Z
UID:5186-1755687600-1755694800@techserv.io
SUMMARY:TI-ROSC August Luncheon
DESCRIPTION:We are excited to have you join us for our next monthly meeting\, Wednesday\, August 20th from 11a-1p CDT. \nPlease RSVP by securing your ticket at the link provided below\, by  Wednesday\, August  13th at 5pm. \nIf you have any questions or concerns\, please reach out to Sloane at sloane.james@techserv.io \nWe very much look forward to seeing you all there!
URL:https://techserv.io/event/ti-rosc-august-luncheon/
LOCATION:Faith Community Center\, 1351 W 11th Ave\,\, Gary\, IN\, 46402\, United States
END:VEVENT
BEGIN:VEVENT
DTSTART;TZID=America/Chicago:20250903T110000
DTEND;TZID=America/Chicago:20250903T130000
DTSTAMP:20260420T055925
CREATED:20250807T174834Z
LAST-MODIFIED:20250807T174933Z
UID:5268-1756897200-1756904400@techserv.io
SUMMARY:TI-ROSC September Luncheon
DESCRIPTION:We are excited to have you join us for our next monthly meeting\, Wednesday\, September 3rd\, from 11a-1p CDT. \nPlease RSVP by securing your ticket at the link provided below\, by  Wednesday\, August 27th at 5pm. \nIf you have any questions or concerns\, please reach out to Sloane at sloane.james@techserv.io \nWe very much look forward to seeing you all there!
URL:https://techserv.io/event/ti-rosc-september-luncheon/
LOCATION:Lake County Community Corrections Office\, 600 W 93rd Ave\, Crown Point\, IN\, 46307\, United States
END:VEVENT
BEGIN:VEVENT
DTSTART;TZID=America/Chicago:20251001T110000
DTEND;TZID=America/Chicago:20251001T130000
DTSTAMP:20260420T055925
CREATED:20250922T145448Z
LAST-MODIFIED:20250922T145448Z
UID:5861-1759316400-1759323600@techserv.io
SUMMARY:TI-ROSC October Luncheon
DESCRIPTION:We are excited to have you join us for our next monthly meeting\, Wednesday\, October 1st\, from 11a-1p CDT. \nPlease RSVP by securing your ticket at the link provided below\, by  Friday\, September 26th at 5pm. \nIf you have any questions or concerns\, please reach out to Sloane at sloane.james@techserv.io \nWe very much look forward to seeing you all there!
URL:https://techserv.io/event/ti-rosc-october-luncheon/
LOCATION:Liberty House Recovery Cafe\, 6145 Cleveland Street\, Merrillville\, IN\, 46410\, United States
END:VEVENT
BEGIN:VEVENT
DTSTART;TZID=America/Chicago:20260114T110000
DTEND;TZID=America/Chicago:20260114T130000
DTSTAMP:20260420T055925
CREATED:20251028T221147Z
LAST-MODIFIED:20251209T185717Z
UID:5973-1768388400-1768395600@techserv.io
SUMMARY:TI-ROSC Holiday Luncheon
DESCRIPTION:We are excited to have you join us for our yearly Holiday Luncheon\, Wednesday\, January 14th\, from 11a-1p CDT. \nWe will have a breathing exercise and a light stretching session\, so please feel free comfortable clothing.  \nPlease RSVP by securing your ticket at the link provided below\, by Wednesday\, January 7th\, at 5pm.  \nIf you have any questions or concerns\, please reach out to Sloane at sloane.james@techserv.io \nWe very much look forward to seeing you all there! ♥♥♥♥
URL:https://techserv.io/event/ti-rosc-holiday-luncheon-2/
LOCATION:TBD
END:VEVENT
END:VCALENDAR