BEGIN:VCALENDAR
VERSION:2.0
PRODID:-//TechServ Corporation - ECPv6.15.20//NONSGML v1.0//EN
CALSCALE:GREGORIAN
METHOD:PUBLISH
X-WR-CALNAME:TechServ Corporation
X-ORIGINAL-URL:https://techserv.io
X-WR-CALDESC:Events for TechServ Corporation
REFRESH-INTERVAL;VALUE=DURATION:PT1H
X-Robots-Tag:noindex
X-PUBLISHED-TTL:PT1H
BEGIN:VTIMEZONE
TZID:America/Chicago
BEGIN:DAYLIGHT
TZOFFSETFROM:-0600
TZOFFSETTO:-0500
TZNAME:CDT
DTSTART:20240310T080000
END:DAYLIGHT
BEGIN:STANDARD
TZOFFSETFROM:-0500
TZOFFSETTO:-0600
TZNAME:CST
DTSTART:20241103T070000
END:STANDARD
BEGIN:DAYLIGHT
TZOFFSETFROM:-0600
TZOFFSETTO:-0500
TZNAME:CDT
DTSTART:20250309T080000
END:DAYLIGHT
BEGIN:STANDARD
TZOFFSETFROM:-0500
TZOFFSETTO:-0600
TZNAME:CST
DTSTART:20251102T070000
END:STANDARD
BEGIN:DAYLIGHT
TZOFFSETFROM:-0600
TZOFFSETTO:-0500
TZNAME:CDT
DTSTART:20260308T080000
END:DAYLIGHT
BEGIN:STANDARD
TZOFFSETFROM:-0500
TZOFFSETTO:-0600
TZNAME:CST
DTSTART:20261101T070000
END:STANDARD
BEGIN:DAYLIGHT
TZOFFSETFROM:-0600
TZOFFSETTO:-0500
TZNAME:CDT
DTSTART:20270314T080000
END:DAYLIGHT
BEGIN:STANDARD
TZOFFSETFROM:-0500
TZOFFSETTO:-0600
TZNAME:CST
DTSTART:20271107T070000
END:STANDARD
END:VTIMEZONE
BEGIN:VEVENT
DTSTART;TZID=America/Chicago:20250903T110000
DTEND;TZID=America/Chicago:20250903T130000
DTSTAMP:20260421T220129
CREATED:20250807T174834Z
LAST-MODIFIED:20250807T174933Z
UID:5268-1756897200-1756904400@techserv.io
SUMMARY:TI-ROSC September Luncheon
DESCRIPTION:We are excited to have you join us for our next monthly meeting\, Wednesday\, September 3rd\, from 11a-1p CDT. \nPlease RSVP by securing your ticket at the link provided below\, by  Wednesday\, August 27th at 5pm. \nIf you have any questions or concerns\, please reach out to Sloane at sloane.james@techserv.io \nWe very much look forward to seeing you all there!
URL:https://techserv.io/event/ti-rosc-september-luncheon/
LOCATION:Lake County Community Corrections Office\, 600 W 93rd Ave\, Crown Point\, IN\, 46307\, United States
END:VEVENT
BEGIN:VEVENT
DTSTART;TZID=America/Chicago:20251001T110000
DTEND;TZID=America/Chicago:20251001T130000
DTSTAMP:20260421T220129
CREATED:20250922T145448Z
LAST-MODIFIED:20250922T145448Z
UID:5861-1759316400-1759323600@techserv.io
SUMMARY:TI-ROSC October Luncheon
DESCRIPTION:We are excited to have you join us for our next monthly meeting\, Wednesday\, October 1st\, from 11a-1p CDT. \nPlease RSVP by securing your ticket at the link provided below\, by  Friday\, September 26th at 5pm. \nIf you have any questions or concerns\, please reach out to Sloane at sloane.james@techserv.io \nWe very much look forward to seeing you all there!
URL:https://techserv.io/event/ti-rosc-october-luncheon/
LOCATION:Liberty House Recovery Cafe\, 6145 Cleveland Street\, Merrillville\, IN\, 46410\, United States
END:VEVENT
BEGIN:VEVENT
DTSTART;TZID=America/Chicago:20260114T110000
DTEND;TZID=America/Chicago:20260114T130000
DTSTAMP:20260421T220129
CREATED:20251028T221147Z
LAST-MODIFIED:20251209T185717Z
UID:5973-1768388400-1768395600@techserv.io
SUMMARY:TI-ROSC Holiday Luncheon
DESCRIPTION:We are excited to have you join us for our yearly Holiday Luncheon\, Wednesday\, January 14th\, from 11a-1p CDT. \nWe will have a breathing exercise and a light stretching session\, so please feel free comfortable clothing.  \nPlease RSVP by securing your ticket at the link provided below\, by Wednesday\, January 7th\, at 5pm.  \nIf you have any questions or concerns\, please reach out to Sloane at sloane.james@techserv.io \nWe very much look forward to seeing you all there! ♥♥♥♥
URL:https://techserv.io/event/ti-rosc-holiday-luncheon-2/
LOCATION:TBD
END:VEVENT
BEGIN:VEVENT
DTSTART;TZID=America/Chicago:20260520T110000
DTEND;TZID=America/Chicago:20260520T130000
DTSTAMP:20260421T220129
CREATED:20260420T151833Z
LAST-MODIFIED:20260421T214110Z
UID:6295-1779274800-1779282000@techserv.io
SUMMARY:TI-ROSC May Luncheon
DESCRIPTION:We’re excited to have you join us for our upcoming monthly meeting on Wednesday\, May 20\, 2026\, from 11:00 AM – 1:00 PM CDT. \n📝 Registration Deadline:Please register by Monday\, May 18 at 11:00 AM CDT. Registration will close promptly at this time. \nPlease note: If registration is lower than expected by the deadline\, the meeting may transition to a virtual format. Registered attendees will be notified in advance of any changes. \nIf you have any questions or need assistance\, please contact info@techserv.io. \nWe look forward to seeing you there!
URL:https://techserv.io/event/ti-rosc-may-luncheon-2/
LOCATION:Faith Community Center\, 1351 W 11th Ave\,\, Gary\, IN\, 46402\, United States
END:VEVENT
BEGIN:VEVENT
DTSTART;TZID=America/Chicago:20260610T110000
DTEND;TZID=America/Chicago:20260610T130000
DTSTAMP:20260421T220129
CREATED:20260421T185138Z
LAST-MODIFIED:20260421T214011Z
UID:6302-1781089200-1781096400@techserv.io
SUMMARY:TI-ROSC June Luncheon
DESCRIPTION:We’re excited to have you join us for our upcoming monthly meeting on Wednesday\, June 10\, 2026\, from 11:00 AM – 1:00 PM CDT. \n📝 Registration Deadline:Please register by Monday\, June 8 at 11:00 AM CDT. Registration will close promptly at this time. \nPlease note: If registration is lower than expected by the deadline\, the meeting may transition to a virtual format. Registered attendees will be notified in advance of any changes. \nIf you have any questions or need assistance\, please contact info@techserv.io. \nWe look forward to seeing you there!
URL:https://techserv.io/event/ti-rosc-june-luncheon-2/
LOCATION:Faith Community Center\, 1351 W 11th Ave\,\, Gary\, IN\, 46402\, United States
END:VEVENT
BEGIN:VEVENT
DTSTART;TZID=America/Chicago:20260812T110000
DTEND;TZID=America/Chicago:20260812T130000
DTSTAMP:20260421T220129
CREATED:20260421T191756Z
LAST-MODIFIED:20260421T213925Z
UID:6305-1786532400-1786539600@techserv.io
SUMMARY:TI-ROSC August Luncheon
DESCRIPTION:We’re excited to have you join us for our upcoming monthly meeting on Wednesday\, August 12\, 2026\, from 11:00 AM – 1:00 PM CDT. \n📝 Registration Deadline:Please register by Monday\, August 10\, at 11:00 AM CDT. Registration will close promptly at this time. \nPlease note: If registration is lower than expected by the deadline\, the meeting may transition to a virtual format. Registered attendees will be notified in advance of any changes. \nIf you have any questions or need assistance\, please contact info@techserv.io. \nWe look forward to seeing you there!
URL:https://techserv.io/event/ti-rosc-august-luncheon-2/
LOCATION:Faith Community Center\, 1351 W 11th Ave\,\, Gary\, IN\, 46402\, United States
END:VEVENT
BEGIN:VEVENT
DTSTART;TZID=America/Chicago:20260909T110000
DTEND;TZID=America/Chicago:20260909T130000
DTSTAMP:20260421T220129
CREATED:20260421T192834Z
LAST-MODIFIED:20260421T195950Z
UID:6307-1788951600-1788958800@techserv.io
SUMMARY:TI-ROSC September Luncheon
DESCRIPTION:We’re excited to have you join us for our upcoming monthly meeting on Wednesday\, September 9\, 2026\, from 11:00 AM – 1:00 PM CDT. \n📝 Registration Deadline:Please register by Monday\, September 7\, at 11:00 AM CDT. Registration will close promptly at this time. \nPlease note: If registration is lower than expected by the deadline\, the meeting may transition to a virtual format. Registered attendees will be notified in advance of any changes. \nIf you have any questions or need assistance\, please contact info@techserv.io. \nWe look forward to seeing you there!
URL:https://techserv.io/event/ti-rosc-september-luncheon-2/
LOCATION:Faith Community Center\, 1351 W 11th Ave\,\, Gary\, IN\, 46402\, United States
END:VEVENT
END:VCALENDAR