BEGIN:VCALENDAR
VERSION:2.0
PRODID:-//TechServ Corporation - ECPv6.15.20//NONSGML v1.0//EN
CALSCALE:GREGORIAN
METHOD:PUBLISH
X-WR-CALNAME:TechServ Corporation
X-ORIGINAL-URL:https://techserv.io
X-WR-CALDESC:Events for TechServ Corporation
REFRESH-INTERVAL;VALUE=DURATION:PT1H
X-Robots-Tag:noindex
X-PUBLISHED-TTL:PT1H
BEGIN:VTIMEZONE
TZID:America/New_York
BEGIN:DAYLIGHT
TZOFFSETFROM:-0500
TZOFFSETTO:-0400
TZNAME:EDT
DTSTART:20210314T070000
END:DAYLIGHT
BEGIN:STANDARD
TZOFFSETFROM:-0400
TZOFFSETTO:-0500
TZNAME:EST
DTSTART:20211107T060000
END:STANDARD
BEGIN:DAYLIGHT
TZOFFSETFROM:-0500
TZOFFSETTO:-0400
TZNAME:EDT
DTSTART:20220313T070000
END:DAYLIGHT
BEGIN:STANDARD
TZOFFSETFROM:-0400
TZOFFSETTO:-0500
TZNAME:EST
DTSTART:20221106T060000
END:STANDARD
BEGIN:DAYLIGHT
TZOFFSETFROM:-0500
TZOFFSETTO:-0400
TZNAME:EDT
DTSTART:20230312T070000
END:DAYLIGHT
BEGIN:STANDARD
TZOFFSETFROM:-0400
TZOFFSETTO:-0500
TZNAME:EST
DTSTART:20231105T060000
END:STANDARD
END:VTIMEZONE
BEGIN:VTIMEZONE
TZID:America/Chicago
BEGIN:DAYLIGHT
TZOFFSETFROM:-0600
TZOFFSETTO:-0500
TZNAME:CDT
DTSTART:20210314T080000
END:DAYLIGHT
BEGIN:STANDARD
TZOFFSETFROM:-0500
TZOFFSETTO:-0600
TZNAME:CST
DTSTART:20211107T070000
END:STANDARD
BEGIN:DAYLIGHT
TZOFFSETFROM:-0600
TZOFFSETTO:-0500
TZNAME:CDT
DTSTART:20220313T080000
END:DAYLIGHT
BEGIN:STANDARD
TZOFFSETFROM:-0500
TZOFFSETTO:-0600
TZNAME:CST
DTSTART:20221106T070000
END:STANDARD
BEGIN:DAYLIGHT
TZOFFSETFROM:-0600
TZOFFSETTO:-0500
TZNAME:CDT
DTSTART:20230312T080000
END:DAYLIGHT
BEGIN:STANDARD
TZOFFSETFROM:-0500
TZOFFSETTO:-0600
TZNAME:CST
DTSTART:20231105T070000
END:STANDARD
END:VTIMEZONE
BEGIN:VEVENT
DTSTART;TZID=America/New_York:20220217T180000
DTEND;TZID=America/New_York:20220217T190000
DTSTAMP:20260422T134928
CREATED:20220207T191652Z
LAST-MODIFIED:20220207T193210Z
UID:3081-1645120800-1645124400@techserv.io
SUMMARY:Marilyn K. Glick Women’s Enrichment Series
DESCRIPTION:fireside chat with Sunny Lu Williams\, President of TechServ \nInspiring the next generation of female leaders and providing direct access to these leaders\, promoting individual networking\, and strengthening community and industry partnerships in Indianapolis.​ \nA yearly three-part lecture series featuring Indiana women who have “broken the mold.”  This series offers a chance for the community to meet and hear from women leaders who hold all types of positions\, from top philanthropists\, to pioneers in the judiciary\, to business leaders\, athletes\, and activists.  The Marilyn K. Glick Women’s Enrichment Series is a one-of-a-kind program that is unmatched in Indiana for its innovation\, scope\, and focus.  This is a not-to-be-missed experience.
URL:https://techserv.io/event/marilyn-k-glick-womens-enrichment-series/
LOCATION:The Indianapolis Propylaeum | it will be virtual
END:VEVENT
BEGIN:VEVENT
DTSTART;TZID=America/Chicago:20220216T100000
DTEND;TZID=America/Chicago:20220216T113000
DTSTAMP:20260422T134928
CREATED:20220214T191553Z
LAST-MODIFIED:20220214T191553Z
UID:3102-1645005600-1645011000@techserv.io
SUMMARY:Women in Recovery
DESCRIPTION:We are honored and thrilled to have Pastor Michael Pirtle as our presenter for this webinar.  Pastor Pirtle is the Executive Director of Liberty House Recovery Café; Program Director for Edgewater Health New Life Addictions Unit; and Executive Director of Emma House Recovery Home for Women. \nThe webinar has been approved for 2 CEU credits by the Indiana Social Worker\, Marriage and Family Therapist and Mental Health Counselor Board to provide Category I Continuing Education programs for: LSW\, LCSW\, LMFT\, LMHC\, LMFTA\, LCAC and LACs.
URL:https://techserv.io/event/women-in-recovery/
LOCATION:Virtual Event
END:VEVENT
END:VCALENDAR